Workbook
Name _ftn1: Activity!#REF!
Name _ftnref1: Activity!$C$7

Sheet Introduction
B6: QUESTIONNAIRE FOR AUDIT COMMITTEES

Sheet Entity details
B2: Entity details | C2: Please use this column to fill in the details
B3: Name of the entity
B4: Address
B5: City
B6: Postal code
B7: Number of employees (*)
B8: Economic activity (*)
B9: Type of the entity (PIE/ESO) | D9: select from the options
B11: Details on the audit committee
B13: Name of the chairperson of the audit committee
B14: Tel
B15: Email
B16: Date of appointment
B17: Name of the contact person for this survey if different from the chairperson
B18: Tel
B19: Email
B20: Number of committee members (where the role of the Audit Committee is performed by another body, please indicate the number of members of that body) (where the role of the Audit Committee is performed by another body, please indicate the number of members of that body) | D20: select from the options
B21: Reference period (please use sheet "Guidance" to indicate the reference period to which the questionnaire refers)
B23: Type of the entity
B24: PIE = public interest entity
B25: ESO = entity with state ownership

Sheet Composition & skills
B2: Audit committee composition and skills | D2: Answer
B3: 1 | C3: Which body or committee within the audited entity carries out the functions assigned to the audit committee?
C4: Comments:
B5: 2 | C5: Does at least one member of that body/committee have competence in accounting and/or auditing?
C6: Comments:
B7: 3 | C7: Does the body/committee members as a whole, have experience relevant to the sector in which the audited entity is operating?
C8: Comments:
B9: 4 | C9: Is a majority of the members of that body/committee independent of the audited entity?
C10: Please indicate below whether the audited entity use any exemption granted by local legislation/regulation)

Sheet Interaction with bodies
B2: Interaction with the administrative or supervisory body | D2: Answer
B3: 5 | C3: How many times during the reference period did the audit committee meet with the administrative or supervisory body of the entity to communicate on its activities, issues and related recommendations?
C5: Comments:
B6: 6 | C6: Did the audit committee inform the administrative or supervisory body of the entity of the outcome of the statutory audit?
C7: Comments:
B8: 7 | C8: Did the audit committee explain to the administrative or supervisory body of the entity how the statutory audit contributed to the integrity of the financial reporting?
C9: Comments:
B10: 8 | C10: Did the audit committee explain to the administrative or supervisory body of the entity what the role of the audit committee was in the statutory audit?
C11: Comments:

Sheet Independence
B2: Independence including the prior approval of permitted non-audit services | D2: Answer
B3: 9 | C3: Did the audit committee monitor the amount of fees paid to the statutory auditor (or the audit firm) in order to ensure future compliance with the permitted non-audit services fee cap of 70%?
C5: Comments:
B6: 10 | C6: Did the audit committee receive a written representation from the statutory auditor (or the audit firm) confirming that the statutory auditor, the audit firm and partners, senior managers and managers, conducting the statutory audit were independent of the entity?
C8: Comments:
B9: 11 | C9: Did the statutory auditor (or the audit firm) of the entity discuss with the audit committee threats to its independence as well as safeguards applied to mitigate those threats?
C11: Comments:
C12: Provision of permitted non-audit services by the statutory auditor (or any member of its network) :
B13: 12 | C13: Did the statutory auditor (or any member of its network) submit a tender to the entity, its parent and controlled undertakings, for the provision of non-audit services during the reference period?
C14: Comments:
B15: 13 | C15: Were all these requests for non-audit services examined by the audit committee?
C16: Comments:
B17: 14 | C17: Did the audit committee withhold approval of any of these requests during the reference period?
C18: Comments:
B22: 15 | C22: What were the reasons supporting this/these refusal(s)?
C23: (Where applicable please comment)

Sheet Auditor
B2: Auditor selection process | D2: Answer
B3: 16 | C3: Did either of the following occur during the reference period:
C4: - appointment of a new statutory auditor(s) or
C5: - reappointment of the previous statutory auditor(s) after a tendering process was performed.
C6: Comments:
C7: As part of the selection process of this/these new statutory auditor(s):
B8: 17 | C8: Did the audit committee assume responsibility with regard to the selection procedure of this/these statutory auditor(s)?
C9: Comments:
B10: 18 | C10: How many audit firms were invited to participate to the tender?
C11: Comments:
B12: 19 | C12: How many statutory auditors (or audit firms) finally submitted an offer following the tendering?
C13: Comments:
B14: 20 | C14: Did the tender process allow for the participation in the selection procedure of firms which received less than 15% of total fees from public-interest entities in the Member State in the previous calendar year?
C15: Comments:
B16: 21 | C16: Did the tender documents contain sufficient information to allow invited statutory auditors (or audit firms) to understand the business of the entity?
C17: Comments:
B18: 22 | C18: Did the tender documents contain sufficient information to allow invited statutory auditors (or audit firms) to understand the type of statutory audit to be carried out?
C19: Comments:
B23: 23 | C23: Did the tender documents contain transparent non-discriminatory selection criteria that was used by the entity to evaluate the proposals made by statutory auditors (or audit firms)?
C24: Comments:
B26: 24 | C26: Did the audit committee validate the report prepared by the entity on the conclusion of the selection procedure?
C27: Comments:
B29: 25 | C29: Did the audit committee identify in its recommendation to the administrative or supervisory body at least two candidates for appointment?
C30: Comments:
B31: 26 | C31: Did the audit committee express a duly justified preference for one candidate?
C32: Comments:
B33: 27 | C33: Did the audit committee consider whether the entity is able to demonstrate, upon request, to the relevant competent authority that the selection procedure was conducted in a fair manner?
C34: Comments:

Sheet Activity
B2: Oversight of the audit function | D2: Answer
B3: 28 | C3: How many times during the reference period did the audit committee meet the statutory auditor (for example to monitor the execution of the audit plan and/or discuss of any significant transactions/issues or changes in the business)?
C4: Comments:
B5: 29 | C5: Did the audit committee monitor the performance of the statutory audit of the annual and consolidated financial statements of the entity?
C6: Comments:
B7: 30 | C7: Did the audit committee consider the findings (if any) and conclusions made by national competent authorities during their last inspection of the statutory auditor (or audit firm)?
C8: Comments:
B9: 31 | C9: Did the statutory auditor of the entity submit the additional report to the audit committee no later than the date of submission of its audit report?
C10: Comments:
B11: 32 | C11: Did the audit committee discuss with the statutory auditor (or the audit firm) key matters arising from the statutory audit, in particular significant deficiencies in the entity’s, in the entity’s internal financial control system and/or in the accounting system?
C13: Comments:
B14: Oversight of the financial reporting process
B15: 33 | C15: Did the audit committee monitor the financial reporting process of the entity?
C16: Comments:
B17: 34 | C17: Did the audit committee submit recommendations or proposals to ensure the integrity of the financial reporting process of the entity?
C19: Comments:
B21: Oversight of the internal quality control and risk management systems
B22: 35 | C22: Did the audit committee monitor the effectiveness of the entity’s internal quality control and risk management systems and, where applicable its internal audit regarding the financial reporting of the audited entity?
C23: Comments:
B24: Other obligations given by the local law
B25: 36 | C25: Is the chairperson of the audit committee independent of the audited entity?
C26: Comments:
B27: 37 | C27: Was relevant information relating to audit committee members published as required by the local law (applies analogously to any authority acting as an Audit Committee)?
C28: Comments:
B29: 38 | C29: Did the audit committee express its commitment to a mandatory audit engagement or withdrawal from the statutory audit contract? (§ 44a par. 1 char.h)
C30: Comments:
B31: 39 | C31: Did the audit committee administer any other activity? (§ 44a par. 1 char. o)
C32: Comments:
B33: 40 | C33: Could the audit committee look at the documents and records relating to the activity of the entity? (§ 44aa char. 1)
C34: Comments:
B36: Comment Box
C37: (Audit Committees may use this comment box to elaborate on any other topics related to their new tasks. Please note, this comment box is only for items that have not been reported in previous sections of this questionnaire).

Sheet Guidance

Sheet Summary
B2: Entity details
B3: =IF(ISBLANK('Entity details'!B3),"-",'Entity details'!B3) -> Name of the entity | C3: =IF(ISBLANK('Entity details'!C3),"-",'Entity details'!C3) -> -
B4: =IF(ISBLANK('Entity details'!B9),"-",'Entity details'!B9) -> Type of the entity (PIE/ESO) | C4: =IF(ISBLANK('Entity details'!C9),"-",'Entity details'!C9) -> -
B5: =IF(ISBLANK('Entity details'!B13),"-",'Entity details'!B13) -> Name of the chairperson of the audit committee | C5: =IF(ISBLANK('Entity details'!C13),"-",'Entity details'!C13) -> -
B6: =IF(ISBLANK('Entity details'!B20),"-",'Entity details'!B20) -> Number of committee members (where the role of the Audit Committee is performed by another body, please indicate the number of members of that body) (where the role of the Audit Committee is performed by another body, please indicate the number of members of that body) | C6: =IF(ISBLANK('Entity details'!C20),"-",'Entity details'!C20) -> -
B7: =IF(ISBLANK('Entity details'!B21),"-",'Entity details'!B21) -> Reference period (please use sheet "Guidance" to indicate the reference period to which the questionnaire refers) | C7: =IF(ISBLANK('Entity details'!C21),"-",'Entity details'!C21) -> -
B8: Composition & skills
B9: =IF(ISBLANK('Composition & skills'!C3),"-",'Composition & skills'!C3) -> Which body or committee within the audited entity carries out the functions assigned to the audit committee? | C9: =IF(ISBLANK('Composition & skills'!D3),"-",'Composition & skills'!D3) -> -
B10: =IF(ISBLANK('Composition & skills'!C5),"-",'Composition & skills'!C5) -> Does at least one member of that body/committee have competence in accounting and/or auditing? | C10: =IF(ISBLANK('Composition & skills'!D5),"-",'Composition & skills'!D5) -> -
B11: =IF(ISBLANK('Composition & skills'!C7),"-",'Composition & skills'!C7) -> Does the body/committee members as a whole, have experience relevant to the sector in which the audited entity is operating? | C11: =IF(ISBLANK('Composition & skills'!D7),"-",'Composition & skills'!D7) -> -
B12: =IF(ISBLANK('Composition & skills'!C9),"-",'Composition & skills'!C9) -> Is a majority of the members of that body/committee independent of the audited entity? | C12: =IF(ISBLANK('Composition & skills'!D9),"-",'Composition & skills'!D9) -> -
B13: Interaction with bodies
B14: =IF(ISBLANK('Interaction with bodies'!C3),"-",'Interaction with bodies'!C3) -> How many times during the reference period did the audit committee meet with the administrative or supervisory body of the entity to communicate on its activities, issues and related recommendations? | C14: =IF(ISBLANK('Interaction with bodies'!D3),"-",'Interaction with bodies'!D3) -> -
B15: =IF(ISBLANK('Interaction with bodies'!C6),"-",'Interaction with bodies'!C6) -> Did the audit committee inform the administrative or supervisory body of the entity of the outcome of the statutory audit? | C15: =IF(ISBLANK('Interaction with bodies'!D6),"-",'Interaction with bodies'!D6) -> -
B16: =IF(ISBLANK('Interaction with bodies'!C8),"-",'Interaction with bodies'!C8) -> Did the audit committee explain to the administrative or supervisory body of the entity how the statutory audit contributed to the integrity of the financial reporting? | C16: =IF(ISBLANK('Interaction with bodies'!D8),"-",'Interaction with bodies'!D8) -> -
B17: =IF(ISBLANK('Interaction with bodies'!C10),"-",'Interaction with bodies'!C10) -> Did the audit committee explain to the administrative or supervisory body of the entity what the role of the audit committee was in the statutory audit? | C17: =IF(ISBLANK('Interaction with bodies'!D10),"-",'Interaction with bodies'!D10) -> -
B18: Independence
B19: =IF(ISBLANK(Independence!C3),"-",Independence!C3) -> Did the audit committee monitor the amount of fees paid to the statutory auditor (or the audit firm) in order to ensure future compliance with the permitted non-audit services fee cap of 70%? | C19: =IF(ISBLANK(Independence!D3),"-",Independence!D3) -> -
B20: =IF(ISBLANK(Independence!C6),"-",Independence!C6) -> Did the audit committee receive a written representation from the statutory auditor (or the audit firm) confirming that the statutory auditor, the audit firm and partners, senior managers and managers, conducting the statutory audit were independent of the entity? | C20: =IF(ISBLANK(Independence!D6),"-",Independence!D6) -> -
B21: =IF(ISBLANK(Independence!C9),"-",Independence!C9) -> Did the statutory auditor (or the audit firm) of the entity discuss with the audit committee threats to its independence as well as safeguards applied to mitigate those threats? | C21: =IF(ISBLANK(Independence!D9),"-",Independence!D9) -> -
B22: =IF(ISBLANK(Independence!C13),"-",Independence!C13) -> Did the statutory auditor (or any member of its network) submit a tender to the entity, its parent and controlled undertakings, for the provision of non-audit services during the reference period? | C22: =IF(ISBLANK(Independence!D13),"-",Independence!D13) -> -
B23: =IF(ISBLANK(Independence!C15),"-",Independence!C15) -> Were all these requests for non-audit services examined by the audit committee? | C23: =IF(ISBLANK(Independence!D15),"-",Independence!D15) -> -
B24: =IF(ISBLANK(Independence!C17),"-",Independence!C17) -> Did the audit committee withhold approval of any of these requests during the reference period? | C24: =IF(ISBLANK(Independence!D17),"-",Independence!D17) -> -
B25: =IF(ISBLANK(Independence!C22),"-",Independence!C22) -> What were the reasons supporting this/these refusal(s)? | C25: =IF(ISBLANK(Independence!C23),"-",Independence!C23) -> (Where applicable please comment)
B26: Auditor
B27: =IF(ISBLANK(Auditor!C3),"-",Auditor!C3) -> Did either of the following occur during the reference period: | C27: =IF(ISBLANK(Auditor!D3),"-",Auditor!D3) -> -
B28: =IF(ISBLANK(Auditor!C8),"-",Auditor!C8) -> Did the audit committee assume responsibility with regard to the selection procedure of this/these statutory auditor(s)? | C28: =IF(ISBLANK(Auditor!D8),"-",Auditor!D8) -> -
B29: =IF(ISBLANK(Auditor!C10),"-",Auditor!C10) -> How many audit firms were invited to participate to the tender? | C29: =IF(ISBLANK(Auditor!D10),"-",Auditor!D10) -> -
B30: =IF(ISBLANK(Auditor!C12),"-",Auditor!C12) -> How many statutory auditors (or audit firms) finally submitted an offer following the tendering? | C30: =IF(ISBLANK(Auditor!D12),"-",Auditor!D12) -> -
B31: =IF(ISBLANK(Auditor!C14),"-",Auditor!C14) -> Did the tender process allow for the participation in the selection procedure of firms which received less than 15% of total fees from public-interest entities in the Member State in the previous calendar year? | C31: =IF(ISBLANK(Auditor!D14),"-",Auditor!D14) -> -
B32: =IF(ISBLANK(Auditor!C16),"-",Auditor!C16) -> Did the tender documents contain sufficient information to allow invited statutory auditors (or audit firms) to understand the business of the entity? | C32: =IF(ISBLANK(Auditor!D16),"-",Auditor!D16) -> -
B33: =IF(ISBLANK(Auditor!C18),"-",Auditor!C18) -> Did the tender documents contain sufficient information to allow invited statutory auditors (or audit firms) to understand the type of statutory audit to be carried out? | C33: =IF(ISBLANK(Auditor!D18),"-",Auditor!D18) -> -
B34: =IF(ISBLANK(Auditor!C23),"-",Auditor!C23) -> Did the tender documents contain transparent non-discriminatory selection criteria that was used by the entity to evaluate the proposals made by statutory auditors (or audit firms)? | C34: =IF(ISBLANK(Auditor!D23),"-",Auditor!D23) -> -
B35: =IF(ISBLANK(Auditor!C26),"-",Auditor!C26) -> Did the audit committee validate the report prepared by the entity on the conclusion of the selection procedure? | C35: =IF(ISBLANK(Auditor!D26),"-",Auditor!D26) -> -
B36: =IF(ISBLANK(Auditor!C29),"-",Auditor!C29) -> Did the audit committee identify in its recommendation to the administrative or supervisory body at least two candidates for appointment? | C36: =IF(ISBLANK(Auditor!D29),"-",Auditor!D29) -> -
B37: =IF(ISBLANK(Auditor!C31),"-",Auditor!C31) -> Did the audit committee express a duly justified preference for one candidate? | C37: =IF(ISBLANK(Auditor!D31),"-",Auditor!D31) -> -
B38: =IF(ISBLANK(Auditor!C33),"-",Auditor!C33) -> Did the audit committee consider whether the entity is able to demonstrate, upon request, to the relevant competent authority that the selection procedure was conducted in a fair manner? | C38: =IF(ISBLANK(Auditor!D33),"-",Auditor!D33) -> -
B39: Activity
B40: =IF(ISBLANK(Activity!C3),"-",Activity!C3) -> How many times during the reference period did the audit committee meet the statutory auditor (for example to monitor the execution of the audit plan and/or discuss of any significant transactions/issues or changes in the business)? | C40: =IF(ISBLANK(Activity!D3),"-",Activity!D3) -> -
B41: =IF(ISBLANK(Activity!C5),"-",Activity!C5) -> Did the audit committee monitor the performance of the statutory audit of the annual and consolidated financial statements of the entity? | C41: =IF(ISBLANK(Activity!D5),"-",Activity!D5) -> -
...
