Workbook
Name _ftn1: Činnosti!#REF!
Name _ftnref1: Činnosti!$C$7

Sheet Úvod
B6: DOTAZNÍK PRO VÝBORY PRO AUDIT

Sheet Popis subjektu
B2: Podrobnosti o subjektu | C2: Odpověď
B3: Název
B4: Sídlo
B5: Město
B6: PSČ
B7: Počet zaměstnanců (uveďte počet z účetní závěrky) | D7: vyberte jednu z možností
B8: Předmět činnosti subjektu | D8: vyberte jednu z možností
B9: Druh společnosti (SVZ/SMÚS) | D9: vyberte jednu z možností
B11: Podrobnosti o výboru pro audit
B13: Jméno a příjmení předsedy/předsedkyně
B14: Tel. (pro předvolbu použijte 00 420…, nikoli +420)
B15: E-mail
B16: Datum zvolení do funkce
B17: Jméno člena výboru pro audit (napište jméno dalšího člena výboru pro audit)
B18: Jméno člena výboru pro audit (napište jméno dalšího člena výboru pro audit)
B19: Jméno člena výboru pro audit (napište jméno dalšího člena výboru pro audit)
B20: Jméno člena výboru pro audit (napište jméno dalšího člena výboru pro audit)
B21: Jméno člena výboru pro audit (napište jméno dalšího člena výboru pro audit)
B22: Webová adresa (§ 44 odst. 7 ZoA) (uveďte adresu, na které byl zveřejněn seznam členů výboru pro audit)
B23: Jméno kontaktní osoby odpovědné za vyplnění tohoto dotazníku (pokud se neshoduje se jménem předsedy/předsedkyně výboru)
... B25: E-mail
B26: Počet členů výboru pro audit (v případě, kdy roli výboru pro audit vykonává jiný orgán, uveďte počet členů tohoto orgánu) | D26: vyberte jednu z možností
B27: Sledované období (prosíme využijte záložku "Pokyny" k uvedení sledovaného období, kde najdete návod)
B28: Datum vyhotovení zprávy o činnosti
B30: Druh společnosti
B31: SVZ = subjekt veřejného zájmy
B32: SMÚS = subjekt s majetkovou účastí státu

Sheet Složení a kvalifikace
B2: Složení a kvalifikace výboru pro audit | D2: Odpověď
B3: 1 | C3: Který orgán nebo výbor v rámci auditovaného subjektu plní funkce přidělené výboru pro audit? (Směrnice čl. 39.1, 39.2 a 39.4)
C4: Poznámka:
B5: 2 | C5: Má alespoň jeden člen orgánu/výboru praxi v účetnictví a/nebo auditu? (Směrnice čl. 39.1)
C6: Poznámka:
B7: 3 | C7: Mají členové orgánu/výboru jako celek zkušenosti relevantní pro sektor, ve kterém auditovaný subjekt působí? (Směrnice čl. 39.1)
C8: Poznámka:
B9: 4 | C9: Je většina členů tohoto orgánu/výboru nezávislá na auditovaném subjektu? (Směrnice čl. 39.1 a 39.5)
C10: Prosíme, zde uveďte, zda auditovaný subjekt využívá nějakou výjimku udělenou místní legislativou/předpisem

Sheet Interakce s orgány
B2: Interakce s řídicím nebo kontrolním orgánem | D2: Odpověď
B3: 5 | C3: Kolikrát se během sledovaného období výbor pro audit setkal s řídicím nebo kontrolním orgánem subjektu k projednání jeho činnosti, zjištěních a souvisejících doporučeních? (Směrnice čl. 39.6.a)
C5: Poznámka:
B6: 6 | C6: Informoval výbor pro audit řídicí nebo kontrolní orgán subjektu o výsledku statutárního auditu? (Směrnice čl. 39.6.a)
C7: Poznámka:
B8: 7 | C8: Vysvětlil výbor pro audit řídicímu nebo kontrolnímu orgánu subjektu, jak statutární audit přispěl k zajištění integrity finančního výkaznictví? (Směrnice čl. 39.6.a)
C9: Poznámka:
B10: 8 | C10: Vysvětlil výbor pro audit řídicímu nebo kontrolnímu orgánu subjektu, jaká byla role výboru pro audit v oblasti/oblastech týkající se/týkajících se statutárního auditu? (Směrnice čl. 39.6.a)
C11: Poznámka:

Sheet Nezávislost
B2: Nezávislost včetně předchozího schválení povolených neauditorských služeb | D2: Odpověď
B3: 9 | C3: Monitoroval výbor pro audit výši odměny vyplacené statutárnímu auditorovi (nebo auditorské firmě), aby zajistil budoucí soulad s povoleným limitem pro odměnu za neauditorské služby ve výši 70 %? (Nařízení čl. 4.2 a 6.2b) a Směrnice čl. 39.6.e)
C5: Poznámka:
B6: 10 | C6: Obdržel výbor pro audit písemné prohlášení od statutárního auditora (nebo auditorské firmy) potvrzující, že statutární auditor, auditorská firma a partneři, senior manažeři a manažeři provádějící statutární audit byli na subjektu nezávislí? (Nařízení čl. 6.2.a) a Směrnice čl. 39.6.e)
C8: Poznámka:
B9: 11 | C9: Diskutoval statutární auditor (nebo auditorská firma) subjektu s auditním výborem rizika ohrožující jeho nezávislost a případná použitá ochranná opatření ke zmírnění těchto rizik? (Nařízení čl. 6.2 a Směrnice čl. 39.6.e)
C11: Poznámka:
C12: Poskytnutí povolených neauditorských služeb statutárním auditorem (nebo členem jeho sítě):
B13: 12 | C13: Předložil statutární auditor (nebo jakýkoli člen jeho sítě) nabídku subjektu, jeho mateřské společnosti a ovládaným osobám na poskytování neauditorských služeb během sledovaného období? (Nařízení čl. 5.4)
C14: Poznámka:
B15: 13 | C15: Byly všechny tyto žádosti o poskytování neauditorských služeb přezkoumány výborem pro audit? (Nařízení čl. 5.4)
C16: Poznámka:
B17: 14 | C17: Odmítnul výbor pro audit vyjádřit souhlas s některými z těchto žádostí během sledovaného období? (Nařízení čl. 5.4)
C18: Poznámka:
B22: 15 | C22: Jaké byly důvody pro toto/tato odmítnutí souhlasu? (komentář uveďte níže) (Nařízení čl. 5.4)
C23: (je-li to relevantní, uveďte komentář)

Sheet Auditor
B2: Proces výběru auditora | D2: Odpověď
B3: 16 | C3: Nastala ve sledovaném období jedna z následujících možností: (Nařízení čl. 16.3)
C4: a) Jmenování nového statutárního auditora nebo
C5: b) Opětovné jmenování předchozího statutárního auditora/auditorů po provedeném výběrovém řízení.
C6: Poznámka:
C7: V rámci procesu výběru tohoto nového statutárního auditora/auditorů:
B8: 17 | C8: Převzal výbor pro audit odpovědnost s ohledem na postup výběru tohoto statutárního auditora/auditorů? (Nařízení čl. 16.3)
C9: Poznámka:
B10: 18 | C10: Kolik auditorských firem bylo vyzváno k účasti ve výběrovém řízení? (Nařízení čl. 16.3)
C11: Poznámka:
B12: 19 | C12: Kolik statutárních auditorů (nebo auditorských firem) nakonec podalo nabídku v rámci výběrového řízení? (Nařízení čl. 16.3)
C13: Poznámka:
B14: 20 | C14: Umožňoval proces výběrového řízení účast ve výběrovém procesu firmám, které obdržely méně než 15 % celkových příjmů od subjektů veřejného zájmu v členském státě v předcházejícím kalendářním roce? (Nařízení čl. 16.3.a)
C15: Poznámka:
B16: 21 | C16: Obsahovala zadávací dokumentace dostatečné informace, aby umožnila vyzvaným statutárním auditorům (nebo auditorským firmám) porozumět obchodní činnosti subjektu? (Nařízení čl. 16.3.b)
C17: Poznámka:
B18: 22 | C18: Obsahovala zadávací dokumentace dostatečné informace, aby umožnila vyzvaným statutárním auditorům (nebo auditorským firmám) porozumět typu statutárního auditu, který má být proveden? (Nařízení čl. 16.3.b)
C19: Poznámka:
B23: 23 | C23: Obsahovala zadávací dokumentace transparentní nediskriminační kritéria výběru, která byla subjektem použita k vyhodnocení nabídek statutárních auditorů (nebo auditních firem)? (Nařízení čl. 16.3.b)
C24: Poznámka:
B26: 24 | C26: Schválil výbor pro audit zprávu o závěrech výběrového řízení připravenou subjektem? (Nařízení čl. 16.3.e)
C27: Poznámka:
B29: 25 | C29: Označil výbor pro audit ve svém doporučení řídicímu nebo kontrolnímu orgánu alespoň dva kandidáty na jmenování? (Nařízení čl. 16.2)
C30: Poznámka:
B31: 26 | C31: Zdůvodnil výbor pro audit řádně svou preferenci pro výběr jednoho kandidáta? (Nařízení čl. 16.2)
C32: Poznámka:
B33: 27 | C33: Zvážil výbor pro audit, zda je subjekt schopen, na požádání, příslušnému úřadu dokázat, že výběrové řízení bylo provedeno nestranně a spravedlivě? (Nařízení čl. 16.3.f)
C34: Poznámka:

Sheet Činnosti
B2: Dohled nad funkcí auditu | D2: Odpověď
B3: 28 | C3: Kolikrát se během sledovaného období výbor pro audit setkal se statutárním auditorem (například ke sledování realizace plánu auditu a/nebo k diskuzi o významných transakcích/záležitostech nebo změnách v obchodní činnosti)? (Směrnice čl. 39.6.d)
C4: Poznámka:
B5: 29 | C5: Monitoroval výbor pro audit provádění statutárního auditu roční a konsolidované účetní závěrky? (Směrnice čl. 39.6.d)
C6: Poznámka:
B7: 30 | C7: Vzal výbor pro audit v úvahu případná zjištění a závěry příslušných národních dohledových orgánů (RVDA) během poslední kontroly statutárního auditora (nebo auditorské firmy)? (Směrnice čl. 39.6.d)
C8: Poznámka:
B9: 31 | C9: Předložil statutární auditor účetní jednotky výboru pro audit dodatečnou zprávu určenou výboru pro audit nejpozději v den předložení zprávy auditora? (Nařízení čl. 11)
C10: Poznámka:
B11: 32 | C11: Prodiskutoval výbor pro audit se statutárním auditorem (nebo auditorskou firmou) klíčové záležitosti plynoucí ze statutárního auditu, především významné nedostatky v interním kontrolním systému a/nebo účetním systému subjektu? (Nařízení čl. 11)
C13: Poznámka:
B14: Dohled nad procesem finančního výkaznictví
B15: 33 | C15: Monitoroval výbor pro audit proces finančního výkaznictví subjektu? (Směrnice čl. 39.6.b)
C16: Poznámka:
B17: 34 | C17: Předložil výbor pro audit doporučení nebo návrhy na zajištění integrity procesu finančního výkaznictví subjektu? (Směrnice čl. 39.6.b)
C19: Poznámka:
B21: Dohled nad systémem interní kontroly kvality a systemem řízení rizik
B22: 35 | C22: Sledoval výbor pro audit efektivitu systémů vnitřní kontroly kvality a řízení rizik subjektu, a případně jeho interní audit v souvislosti s finančním výkaznictvím auditovaného subjektu? (Směrnice čl. 39.6.c)
C23: Poznámka:
B24: Ostatní požadavky podle zákona o auditorech
B25: 36 | C25: Je předseda výboru nezávislý na auditovaném subjektu? (§ 44 odst. 3 ZoA)
C26: Poznámka:
B27: 37 | C27: Byly na internetových stránkách subjektu zveřejněny relevantní informace týkající se výboru pro audit (platí obdobně pro orgán, který plní funkci výboru pro audit, pokud výbor pro audit nebyl zřízen)? (§ 44 odst. 7 ZoA)
C28: Poznámka:
B29: 38 | C29: Vyjádřil se výbor pro audit k výpovědi závazku ze smlouvy o povinném auditu nebo odstoupení od smlouvy o povinném auditu? (§ 44a odst. 1 písm. h) ZoA)
C30: Poznámka:
B31: 39 | C31: Vykonával výbor pro audit další působnost podle zákona o auditorech nebo nařízení? (§ 44a odst. 1 písm. o) ZoA)
C32: Poznámka:
B33: 40 | C33: Mohl výbor pro audit nahlížet do dokladů a záznamů týkajících se činnosti subjektu, který jej zřídil, v rozsahu nezbytném pro výkon jeho činnosti? (§ 44aa odst. 1 ZoA)
C34: Poznámka:
B36: Doplňující komentář
C37: (Výbory pro audit mohou použít tuto kolonku pro poznámky k uvedení podrobnějších informací o jakýchkoli jiných tématech souvisejících s jejich novými úkoly. Upozorňujeme, že tato kolonka pro poznámky je určena pouze pro položky, které nebyly uvedeny v předchozích částech dotazníku.)

Sheet Pokyny

Sheet Souhrn
B2: Popis subjektu
B3: =IF(ISBLANK('Popis subjektu'!B7),"-",'Popis subjektu'!B3) -> Název | C3: =IF(ISBLANK('Popis subjektu'!C3),"-",'Popis subjektu'!C3) -> -
B4: =IF(ISBLANK('Popis subjektu'!B7),"-",'Popis subjektu'!B7) -> Počet zaměstnanců (uveďte počet z účetní závěrky) | C4: =IF(ISBLANK('Popis subjektu'!C7),"-",'Popis subjektu'!C7) -> -
B5: =IF(ISBLANK('Popis subjektu'!B8),"-",'Popis subjektu'!B8) -> Předmět činnosti subjektu | C5: =IF(ISBLANK('Popis subjektu'!C8),"-",'Popis subjektu'!C8) -> -
B6: =IF(ISBLANK('Popis subjektu'!B9),"-",'Popis subjektu'!B9) -> Druh společnosti (SVZ/SMÚS) | C6: =IF(ISBLANK('Popis subjektu'!C9),"-",'Popis subjektu'!C9) -> -
B7: =IF(ISBLANK('Popis subjektu'!B13),"-",'Popis subjektu'!B13) -> Jméno a příjmení předsedy/předsedkyně | C7: =IF(ISBLANK('Popis subjektu'!C13),"-",'Popis subjektu'!C13) -> -
B8: =IF(ISBLANK('Popis subjektu'!B26),"-",'Popis subjektu'!B26) -> Počet členů výboru pro audit (v případě, kdy roli výboru pro audit vykonává jiný orgán, uveďte počet členů tohoto orgánu) | C8: =IF(ISBLANK('Popis subjektu'!C26),"-",'Popis subjektu'!C26) -> -
B9: =IF(ISBLANK('Popis subjektu'!B27),"-",'Popis subjektu'!B27) -> Sledované období (prosíme využijte záložku "Pokyny" k uvedení sledovaného období, kde najdete návod) | C9: =IF(ISBLANK('Popis subjektu'!C27),"-",'Popis subjektu'!C27) -> -
B10: Složení a kvalifikace
B11: =IF(ISBLANK('Složení a kvalifikace'!C3),"-",'Složení a kvalifikace'!C3) -> Který orgán nebo výbor v rámci auditovaného subjektu plní funkce přidělené výboru pro audit? (Směrnice čl. 39.1, 39.2 a 39.4) | C11: =IF(ISBLANK('Složení a kvalifikace'!D3),"-",'Složení a kvalifikace'!D3) -> -
B12: =IF(ISBLANK('Složení a kvalifikace'!C5),"-",'Složení a kvalifikace'!C5) -> Má alespoň jeden člen orgánu/výboru praxi v účetnictví a/nebo auditu? (Směrnice čl. 39.1) | C12: =IF(ISBLANK('Složení a kvalifikace'!D5),"-",'Složení a kvalifikace'!D5) -> -
B13: =IF(ISBLANK('Složení a kvalifikace'!C7),"-",'Složení a kvalifikace'!C7) -> Mají členové orgánu/výboru jako celek zkušenosti relevantní pro sektor, ve kterém auditovaný subjekt působí? (Směrnice čl. 39.1) | C13: =IF(ISBLANK('Složení a kvalifikace'!D7),"-",'Složení a kvalifikace'!D7) -> -
B14: =IF(ISBLANK('Složení a kvalifikace'!C9),"-",'Složení a kvalifikace'!C9) -> Je většina členů tohoto orgánu/výboru nezávislá na auditovaném subjektu? (Směrnice čl. 39.1 a 39.5) | C14: =IF(ISBLANK('Složení a kvalifikace'!D9),"-",'Složení a kvalifikace'!D9) -> -
B15: Interakce
B16: =IF(ISBLANK('Interakce s orgány'!C3),"-",'Interakce s orgány'!C3) -> Kolikrát se během sledovaného období výbor pro audit setkal s řídicím nebo kontrolním orgánem subjektu k projednání jeho činnosti, zjištěních a souvisejících doporučeních? (Směrnice čl. 39.6.a) | C16: =IF(ISBLANK('Interakce s orgány'!D3),"-",'Interakce s orgány'!D3) -> -
B17: =IF(ISBLANK('Interakce s orgány'!C6),"-",'Interakce s orgány'!C6) -> Informoval výbor pro audit řídicí nebo kontrolní orgán subjektu o výsledku statutárního auditu? (Směrnice čl. 39.6.a) | C17: =IF(ISBLANK('Interakce s orgány'!D6),"-",'Interakce s orgány'!D6) -> -
B18: =IF(ISBLANK('Interakce s orgány'!C8),"-",'Interakce s orgány'!C8) -> Vysvětlil výbor pro audit řídicímu nebo kontrolnímu orgánu subjektu, jak statutární audit přispěl k zajištění integrity finančního výkaznictví? (Směrnice čl. 39.6.a) | C18: =IF(ISBLANK('Interakce s orgány'!D8),"-",'Interakce s orgány'!D8) -> -
B19: =IF(ISBLANK('Interakce s orgány'!C10),"-",'Interakce s orgány'!C10) -> Vysvětlil výbor pro audit řídicímu nebo kontrolnímu orgánu subjektu, jaká byla role výboru pro audit v oblasti/oblastech týkající se/týkajících se statutárního auditu? (Směrnice čl. 39.6.a) | C19: =IF(ISBLANK('Interakce s orgány'!D10),"-",'Interakce s orgány'!D10) -> -
B20: Nezávislost
B21: =IF(ISBLANK(Nezávislost!C3),"-",Nezávislost!C3) -> Monitoroval výbor pro audit výši odměny vyplacené statutárnímu auditorovi (nebo auditorské firmě), aby zajistil budoucí soulad s povoleným limitem pro odměnu za neauditorské služby ve výši 70 %? (Nařízení čl. 4.2 a 6.2b) a Směrnice čl. 39.6.e) | C21: =IF(ISBLANK(Nezávislost!D3),"-",Nezávislost!D3) -> -
B22: =IF(ISBLANK(Nezávislost!C6),"-",Nezávislost!C6) -> Obdržel výbor pro audit písemné prohlášení od statutárního auditora (nebo auditorské firmy) potvrzující, že statutární auditor, auditorská firma a partneři, senior manažeři a manažeři provádějící statutární audit byli na subjektu nezávislí? (Nařízení čl. 6.2.a) a Směrnice čl. 39.6.e) | C22: =IF(ISBLANK(Nezávislost!D6),"-",Nezávislost!D6) -> -
B23: =IF(ISBLANK(Nezávislost!C9),"-",Nezávislost!C9) -> Diskutoval statutární auditor (nebo auditorská firma) subjektu s auditním výborem rizika ohrožující jeho nezávislost a případná použitá ochranná opatření ke zmírnění těchto rizik? (Nařízení čl. 6.2 a Směrnice čl. 39.6.e) | C23: =IF(ISBLANK(Nezávislost!D9),"-",Nezávislost!D9) -> -
B24: =IF(ISBLANK(Nezávislost!C13),"-",Nezávislost!C13) -> Předložil statutární auditor (nebo jakýkoli člen jeho sítě) nabídku subjektu, jeho mateřské společnosti a ovládaným osobám na poskytování neauditorských služeb během sledovaného období? (Nařízení čl. 5.4) | C24: =IF(ISBLANK(Nezávislost!D13),"-",Nezávislost!D13) -> -
B25: =IF(ISBLANK(Nezávislost!C15),"-",Nezávislost!C15) -> Byly všechny tyto žádosti o poskytování neauditorských služeb přezkoumány výborem pro audit? (Nařízení čl. 5.4) | C25: =IF(ISBLANK(Nezávislost!D15),"-",Nezávislost!D15) -> -
B26: =IF(ISBLANK(Nezávislost!C17),"-",Nezávislost!C17) -> Odmítnul výbor pro audit vyjádřit souhlas s některými z těchto žádostí během sledovaného období? (Nařízení čl. 5.4) | C26: =IF(ISBLANK(Nezávislost!D17),"-",Nezávislost!D17) -> -
B27: =IF(ISBLANK(Nezávislost!C22),"-",Nezávislost!C22) -> Jaké byly důvody pro toto/tato odmítnutí souhlasu? (komentář uveďte níže) (Nařízení čl. 5.4) | C27: =IF(ISBLANK(Nezávislost!C23),"-",Nezávislost!C23) -> (je-li to relevantní, uveďte komentář)
B28: Auditor
B29: =IF(ISBLANK(Auditor!C3),"-",Auditor!C3) -> Nastala ve sledovaném období jedna z následujících možností: (Nařízení čl. 16.3) | C29: =IF(ISBLANK(Auditor!D3),"-",Auditor!D3) -> -
B30: =IF(ISBLANK(Auditor!C8),"-",Auditor!C8) -> Převzal výbor pro audit odpovědnost s ohledem na postup výběru tohoto statutárního auditora/auditorů? (Nařízení čl. 16.3) | C30: =IF(ISBLANK(Auditor!D8),"-",Auditor!D8) -> -
B31: =IF(ISBLANK(Auditor!C10),"-",Auditor!C10) -> Kolik auditorských firem bylo vyzváno k účasti ve výběrovém řízení? (Nařízení čl. 16.3) | C31: =IF(ISBLANK(Auditor!D10),"-",Auditor!D10) -> -
B32: =IF(ISBLANK(Auditor!C12),"-",Auditor!C12) -> Kolik statutárních auditorů (nebo auditorských firem) nakonec podalo nabídku v rámci výběrového řízení? (Nařízení čl. 16.3) | C32: =IF(ISBLANK(Auditor!D12),"-",Auditor!D12) -> -
B33: =IF(ISBLANK(Auditor!C14),"-",Auditor!C14) -> Umožňoval proces výběrového řízení účast ve výběrovém procesu firmám, které obdržely méně než 15 % celkových příjmů od subjektů veřejného zájmu v členském státě v předcházejícím kalendářním roce? (Nařízení čl. 16.3.a) | C33: =IF(ISBLANK(Auditor!D14),"-",Auditor!D14) -> -
B34: =IF(ISBLANK(Auditor!C16),"-",Auditor!C16) -> Obsahovala zadávací dokumentace dostatečné informace, aby umožnila vyzvaným statutárním auditorům (nebo auditorským firmám) porozumět obchodní činnosti subjektu? (Nařízení čl. 16.3.b) | C34: =IF(ISBLANK(Auditor!D16),"-",Auditor!D16) -> -
B35: =IF(ISBLANK(Auditor!C18),"-",Auditor!C18) -> Obsahovala zadávací dokumentace dostatečné informace, aby umožnila vyzvaným statutárním auditorům (nebo auditorským firmám) porozumět typu statutárního auditu, který má být proveden? (Nařízení čl. 16.3.b) | C35: =IF(ISBLANK(Auditor!D18),"-",Auditor!D18) -> -
B36: =IF(ISBLANK(Auditor!C23),"-",Auditor!C23) -> Obsahovala zadávací dokumentace transparentní nediskriminační kritéria výběru, která byla subjektem použita k vyhodnocení nabídek statutárních auditorů (nebo auditních firem)? (Nařízení čl. 16.3.b) | C36: =IF(ISBLANK(Auditor!D23),"-",Auditor!D23) -> -
B37: =IF(ISBLANK(Auditor!C26),"-",Auditor!C26) -> Schválil výbor pro audit zprávu o závěrech výběrového řízení připravenou subjektem? (Nařízení čl. 16.3.e) | C37: =IF(ISBLANK(Auditor!D26),"-",Auditor!D26) -> -
B38: =IF(ISBLANK(Auditor!C29),"-",Auditor!C29) -> Označil výbor pro audit ve svém doporučení řídicímu nebo kontrolnímu orgánu alespoň dva kandidáty na jmenování? (Nařízení čl. 16.2) | C38: =IF(ISBLANK(Auditor!D29),"-",Auditor!D29) -> -
B39: =IF(ISBLANK(Auditor!C31),"-",Auditor!C31) -> Zdůvodnil výbor pro audit řádně svou preferenci pro výběr jednoho kandidáta? (Nařízení čl. 16.2) | C39: =IF(ISBLANK(Auditor!D31),"-",Auditor!D31) -> -
B40: =IF(ISBLANK(Auditor!C33),"-",Auditor!C33) -> Zvážil výbor pro audit, zda je subjekt schopen, na požádání, příslušnému úřadu dokázat, že výběrové řízení bylo provedeno nestranně a spravedlivě? (Nařízení čl. 16.3.f) | C40: =IF(ISBLANK(Auditor!D33),"-",Auditor!D33) -> -
B41: Činnosti
...
