Workbook

Sheet Úvod
B6: DOTAZNÍK PRO VÝBORY PRO AUDIT
B24: QUESTIONNAIRE FOR AUDIT COMMITTEES

Sheet Pokyny pro vyplnění

Sheet Dotazník
B1: UKAZATELE VÝBORU PRO AUDIT - ČESKÁ REPUBLIKA
B2: Název subjektu | D2: (vložte název subjektu)
B3: Sledované období | D3: (vložte sledované období)
B4: A | C4: Otázka | D4: Možnosti | E4: Odpověď
A5: 1 | B5: 1 | C5: Počet zaměstnanců v subjektu | D5: 1 až 9
D6: 10 až 49
D7: 50 až 249
D8: 250 až 499
D9: Víc než 500
A10: 2 | B10: 2 | C10: Oblast působnosti subjektu | D10: Ubytování a strava
D11: Spotřební zboží
D12: Energie
D13: Zdravotní péče
D14: Finanční služby – bankovnictví
D15: Finanční služby – pojištovnictví
D16: Finanční služby – ostatní
D17: Výroba
D18: Informační technologie
D19: Těžba a zpracování surovin
D20: Nemovitosti
D21: Telekomunikace
D22: Cestování, volný čas a pohostinství
... D26: Poznámka
A27: 3 | B27: 3 | C27: Počet členů výboru pro audit | D27: 3
D28: 4
D29: 5
D30: >5
C32: Číslo otázky | D32: Dílčí možnosti otázky
B33: I | C33: Interakce s řídicím nebo kontrolním orgánem
A34: 4A | B34: 1 | C34: Kolikrát se během sledovaného období setkal výbor pro audit se řídicím orgánem a/nebo kontrolním orgánem subjektu, aby s ním komunikoval o jeho činnosti, otázkách a souvisejících doporučeních týkajících se povinného auditu? (čl. 39 odst. 6a Směrnice) | D34: 1.0.a Celkem (řídicí orgán)
D35: 1.1. Nikdy
D36: 1.2. 1x
D37: 1.3. 2x
D38: 1.4. 3x
D39: 1.5. Čtvrtletně
D40: 1.6. 5x
D41: 1.7. 6x
D42: 1.8. 7x
D43: 1.9. 8x
D44: 1.10 Více než 8x
...

Sheet Souhrn
C1: =Dotazník!B2 -> Název subjektu | D1: =Dotazník!D2 -> (vložte název subjektu)
C2: =Dotazník!B3 -> Sledované období | D2: =Dotazník!D3 -> (vložte sledované období)
A3: =Dotazník!B5 -> 1 | B3: =VLOOKUP(A3,Dotazník!A:E,2,0) -> 1 | C3: =VLOOKUP(A3,Dotazník!A:E,3,0) -> Počet zaměstnanců v subjektu | D3: =VLOOKUP(A3,Dotazník!A:E,5,0) -> 0
A4: =A3+1 -> 2 | B4: =VLOOKUP(A4,Dotazník!A:E,2,0) -> 2 | C4: =VLOOKUP(A4,Dotazník!A:E,3,0) -> Oblast působnosti subjektu | D4: =VLOOKUP(A4,Dotazník!A:E,5,0) -> 0
A5: =A4+1 -> 3 | B5: =VLOOKUP(A5,Dotazník!A:E,2,0) -> 3 | C5: =VLOOKUP(A5,Dotazník!A:E,3,0) -> Počet členů výboru pro audit | D5: =VLOOKUP(A5,Dotazník!A:E,5,0) -> 0
A6: 4A | B6: =VLOOKUP(A6,Dotazník!A:E,2,0) -> 1 | C6: =VLOOKUP(A6,Dotazník!A:E,3,0) -> Kolikrát se během sledovaného období setkal výbor pro audit se řídicím orgánem a/nebo kontrolním orgánem subjektu, aby s ním komunikoval o jeho činnosti, otázkách a souvisejících doporučeních týkajících se povinného auditu? (čl. 39 odst. 6a Směrnice) | D6: =IF(ISBLANK(VLOOKUP(A6,Dotazník!A:E,5,0)),Dotazník!E45,VLOOKUP(A6,Dotazník!A:E,5,0)) -> 0
A7: 4B | B7: =VLOOKUP(A6,Dotazník!A:E,2,0) -> 1 | C7: =VLOOKUP(A6,Dotazník!A:E,3,0) -> Kolikrát se během sledovaného období setkal výbor pro audit se řídicím orgánem a/nebo kontrolním orgánem subjektu, aby s ním komunikoval o jeho činnosti, otázkách a souvisejících doporučeních týkajících se povinného auditu? (čl. 39 odst. 6a Směrnice) | D7: =IF(ISBLANK(VLOOKUP(A7,Dotazník!A:E,5,0)),Dotazník!E59,VLOOKUP(A7,Dotazník!A:E,5,0)) -> 0
A8: 5 | B8: =VLOOKUP(A8,Dotazník!A:E,2,0) -> 2 | C8: =VLOOKUP(A8,Dotazník!A:E,3,0) -> Jak výbor pro audit sdělil výsledek auditu řídicímu a/nebo kontrolnímu orgánu subjektu? (čl. 39.6.a Směrnice) | D8: =IF(ISBLANK(VLOOKUP(A8,Dotazník!A:E,5,0)),Dotazník!E66,VLOOKUP(A8,Dotazník!A:E,5,0)) -> 0
A9: =A8+1 -> 6 | B9: =VLOOKUP(A8,Dotazník!A:E,2,0) -> 2 | C9: =VLOOKUP(A8,Dotazník!A:E,3,0) -> Jak výbor pro audit sdělil výsledek auditu řídicímu a/nebo kontrolnímu orgánu subjektu? (čl. 39.6.a Směrnice) | D9: =IF(ISBLANK(VLOOKUP(A9,Dotazník!A:E,5,0)),Dotazník!E74,VLOOKUP(A9,Dotazník!A:E,5,0)) -> 0
A10: =A9+1 -> 7 | B10: =VLOOKUP(A10,Dotazník!A:E,2,0) -> 3 | C10: =VLOOKUP(A10,Dotazník!A:E,3,0) -> Kolik času (v %) bylo během jednání s řídicím nebo kontrolním orgánem věnováno záležitostem souvisejícím s výsledkem a sledováním procesu povinného auditu? | D10: =VLOOKUP(A10,Dotazník!A:E,5,0) -> 0
A11: =A10+1 -> 8 | B11: =VLOOKUP(A11,Dotazník!A:E,2,0) -> 4 | C11: =VLOOKUP(A11,Dotazník!A:E,3,0) -> Poskytl výbor pro audit řídicímu nebo kontrolnímu orgánu vstupy nebo doporučení týkající se následujících oblastí? | D11: =VLOOKUP(A11,Dotazník!A:E,5,0) -> 0
A12: =A11+1 -> 9 | B12: =VLOOKUP(A12,Dotazník!A:E,2,0) -> 5 | C12: =VLOOKUP(A12,Dotazník!A:E,3,0) -> Jak výbor pro audit sledoval nezávislost statutárního auditora (auditorů) / auditorské společnosti (společností) během sledovaného období? | D12: =VLOOKUP(A12,Dotazník!A:E,5,0) -> 0
A13: =A12+1 -> 10 | B13: =VLOOKUP(A13,Dotazník!A:E,2,0) -> 6 | C13: =VLOOKUP(A13,Dotazník!A:E,3,0) -> Stanovil výbor pro audit další kritéria omezující neauditorské služby, která by byla přípustná podle Nařízení nebo lokální legislativy? | D13: =VLOOKUP(A13,Dotazník!A:E,5,0) -> 0
A14: =A13+1 -> 11 | B14: =VLOOKUP(A14,Dotazník!A:E,2,0) -> 7 | C14: =VLOOKUP(A14,Dotazník!A:E,3,0) -> Kolik nabídek předložil statutární auditor (auditoři) / auditorská společnost (nebo kterýkoli člen její sítě) subjektu, jeho mateřskému a ovládanému podniku na poskytování neauditorských služeb během sledovaného období? (čl. 5 odst. 4 Nařízení) | D14: =VLOOKUP(A14,Dotazník!A:E,5,0) -> 0
A15: =A14+1 -> 12 | B15: =VLOOKUP(A15,Dotazník!A:E,2,0) -> 7b | C15: =VLOOKUP(A15,Dotazník!A:E,3,0) -> Uveďte celkové odměny související s poskytováním navrhovaných neauditorských služeb jako % z celkové odměny za povinný audit | D15: =VLOOKUP(A15,Dotazník!A:E,5,0) -> 0
A16: =A15+1 -> 13 | B16: =VLOOKUP(A16,Dotazník!A:E,2,0) -> 8 | C16: =VLOOKUP(A16,Dotazník!A:E,3,0) -> Byly všechny tyto návrhy na neauditorské služby posouzeny výborem pro audit? (čl. 5 odst. 4 Nařízení) | D16: =VLOOKUP(A16,Dotazník!A:E,5,0) -> 0
A17: =A16+1 -> 14 | B17: =VLOOKUP(A17,Dotazník!A:E,2,0) -> 8a | C17: =VLOOKUP(A17,Dotazník!A:E,3,0) -> Pokud ne, proč ne? | D17: =VLOOKUP(A17,Dotazník!A:E,5,0) -> 0
A18: =A17+1 -> 15 | B18: =VLOOKUP(A18,Dotazník!A:E,2,0) -> 8a | C18: =VLOOKUP(A18,Dotazník!A:E,3,0) -> Pokud ano, jak bylo organizováno posouzení návrhů na neauditorské služby? | D18: =VLOOKUP(A18,Dotazník!A:E,5,0) -> 0
A19: =A18+1 -> 16 | B19: =VLOOKUP(A19,Dotazník!A:E,2,0) -> 9 | C19: =VLOOKUP(A19,Dotazník!A:E,3,0) -> Odmítl výbor pro audit během sledovaného období schválit některý z těchto návrhů na neauditorské služby? (čl. 5 odst. 4 Nařízení)? | D19: =VLOOKUP(A19,Dotazník!A:E,5,0) -> 0
A20: =A19+1 -> 17 | B20: =VLOOKUP(A20,Dotazník!A:E,2,0) -> 9a | C20: =VLOOKUP(A20,Dotazník!A:E,3,0) -> Pokud ano, jakou část z počtu návrhů na neauditorské služby (uvedených v otázce č. 7) výbor pro audit neschválil? | D20: =VLOOKUP(A20,Dotazník!A:E,5,0) -> 0
A21: =A20+1 -> 18 | B21: =VLOOKUP(A21,Dotazník!A:E,2,0) -> 9b | C21: =VLOOKUP(A21,Dotazník!A:E,3,0) -> Jaké byly důvody pro jejich neschválení? | D21: =VLOOKUP(A21,Dotazník!A:E,5,0) -> 0
... A52: =A51+1 -> 49 | B52: =VLOOKUP(A52,Dotazník!A:E,2,0) -> 28a | C52: =VLOOKUP(A52,Dotazník!A:E,3,0) -> Jaké ukazatele/paramentry použil výbor pro audit pro podporu tohoto posouzení? | D52: =VLOOKUP(A52,Dotazník!A:E,5,0) -> Poznámka
A53: 50A | B53: =VLOOKUP(A53,Dotazník!A:E,2,0) -> 29 | C53: =VLOOKUP(A53,Dotazník!A:E,3,0) -> Kolikrát se během sledovaného období výbor pro audit setkal se statutárním auditorem (auditory) / auditorskou společností (např. aby sledoval proces povinného auditu auditu a/nebo diskutoval o významných transakcích/otázkách nebo změnách v podnikání)? Uveďte samostatně počet schůzek, kterých se zúčastnilo vedení. (čl. 39.6d Směrnice) | D53: =VLOOKUP(A53,Dotazník!A:E,5,0) -> 0
A54: 50B | B54: =B53 -> 29 | C54: =C53 -> Kolikrát se během sledovaného období výbor pro audit setkal se statutárním auditorem (auditory) / auditorskou společností (např. aby sledoval proces povinného auditu auditu a/nebo diskutoval o významných transakcích/otázkách nebo změnách v podnikání)? Uveďte samostatně počet schůzek, kterých se zúčastnilo vedení. (čl. 39.6d Směrnice) | D54: =VLOOKUP(A54,Dotazník!A:E,5,0) -> 0
A55: 51 | B55: =VLOOKUP(A55,Dotazník!A:E,2,0) -> 30 | C55: =VLOOKUP(A55,Dotazník!A:E,3,0) -> Vzal výbor pro audit v úvahu případná zjištění a závěry učiněné RVDA z poslední kontroly kvality statutárního auditora (auditorů) nebo auditorské společnosti? (čl. 39.6d Směrnice) | D55: =VLOOKUP(A55,Dotazník!A:E,5,0) -> 0
A56: =A55+1 -> 52 | B56: =VLOOKUP(A56,Dotazník!A:E,2,0) -> 30a | C56: =VLOOKUP(A56,Dotazník!A:E,3,0) -> Pokud je relevantní: Jak případně výbor pro audit zohlednil zjištění (pokud existují) a závěry učiněné RVDA z poslední kontroly statutárního auditora (auditorů) nebo auditorské společnosti? | D56: =VLOOKUP(A56,Dotazník!A:E,5,0) -> 0
A57: =A56+1 -> 53 | B57: =VLOOKUP(A57,Dotazník!A:E,2,0) -> 30b | C57: =VLOOKUP(A57,Dotazník!A:E,3,0) -> Pokud RVDA kontrolovala kvalitu provedeného povinného auditu u subjektu, kde výbor pro audit působí a pokud je to v lokální jurisdikci povoleno, byl výbor pro audit zapojen do jakéhokoli aspektu této kontroly? | D57: =VLOOKUP(A57,Dotazník!A:E,5,0) -> 0
A58: =A57+1 -> 54 | B58: =VLOOKUP(A58,Dotazník!A:E,2,0) -> 31 | C58: =VLOOKUP(A58,Dotazník!A:E,3,0) -> Projednal výbor pro audit se statutárním auditorem (auditory) / auditorskou společností klíčové otázky vyplývající z povinného auditu, zejména informace o jakýchkoli závažných nedostatcích systému vnitřní finanční kontroly auditovaného subjektu nebo, v případě konsolidované ÚZ, mateřského podniku, jakož i jejich účetního systému. (čl. 11 Nařízení) | D58: =VLOOKUP(A58,Dotazník!A:E,5,0) -> 0
A59: =A58+1 -> 55 | B59: =VLOOKUP(A59,Dotazník!A:E,2,0) -> 32 | C59: =VLOOKUP(A59,Dotazník!A:E,3,0) -> Jak výbor pro audit sledoval postup sestavování účetní závěrky a konsolidované účetní závěrky účetní jednotky? (čl. 39.6.d) Směrnice) | D59: =VLOOKUP(A59,Dotazník!A:E,5,0) -> 0
A60: =A59+1 -> 56 | B60: =VLOOKUP(A60,Dotazník!A:E,2,0) -> 33 | C60: =VLOOKUP(A60,Dotazník!A:E,3,0) -> Provedl výbor pro audit formální posouzení kvality auditu? | D60: =VLOOKUP(A60,Dotazník!A:E,5,0) -> 0
A61: =A60+1 -> 57 | B61: =VLOOKUP(A61,Dotazník!A:E,2,0) -> 33a | C61: =VLOOKUP(A61,Dotazník!A:E,3,0) -> Pokud ano, jaká kritéria/parametry nebo jiné prvky použil výbor pro audit k posouzení kvality auditu? | D61: =VLOOKUP(A61,Dotazník!A:E,5,0) -> 0
A62: =A61+1 -> 58 | B62: =VLOOKUP(A62,Dotazník!A:E,2,0) -> 33b | C62: =VLOOKUP(A62,Dotazník!A:E,3,0) -> Jaké konkrétní nástroje použil výbor pro audit pro posouzení kvality auditu? | D62: =VLOOKUP(A62,Dotazník!A:E,5,0) -> 0
A63: =A62+1 -> 59 | B63: =VLOOKUP(A63,Dotazník!A:E,2,0) -> 34 | C63: =VLOOKUP(A63,Dotazník!A:E,3,0) -> Jak výbor pro audit sledoval účinnost systémů vnitřní kontroly a systémů řízení rizik a případně jeho interního auditu s ohledem na účetní výkaznictví auditovaného subjektu? (čl. 39 odst. 6c Směrnice) | D63: =VLOOKUP(A63,Dotazník!A:E,5,0) -> 0
A64: =A63+1 -> 60 | B64: =VLOOKUP(A64,Dotazník!A:E,2,0) -> 35 | C64: =VLOOKUP(A64,Dotazník!A:E,3,0) -> ZÁVĚREČNÉ POZNÁMKY: Tento řádek slouží k přidání informací, které nebyly uvedeny v předchozích částech dotazníku. | D64: =VLOOKUP(A64,Dotazník!A:E,5,0) -> Poznámka
