Workbook
Name All_Cat: '[1]Firmwide and International'!$B$33:$B$73
Name Auditor_Type: #REF!
Name Engagement: '[1]Firmwide and International'!$K$6:$K$32
Name Firmwide: '[1]Firmwide and International'!$B$6:$B$20

Sheet Introduction
B6: DOTAZNÍK PRO VÝBORY PRO AUDIT
B24: QUESTIONNAIRE FOR AUDIT COMMITTEES

Sheet Reference period

Sheet Instructions

Sheet AC Questionnaire
B1: Audit Committee questionnaire
B2: A | C2: Questionnaire population | D2: Please fill in below | E2: Options | G2: HELP
A3: 1A | B3: 1 | C3: Name of the entity
A4: 2A | B4: 2 | C4: Reference period
A5: 3Aa | B5: 3 | C5: Name of the audit committee chairman
A6: 3Ab | C6: E-mail of the audit committee chairman
A7: 3Ac | C7: Name of the person who completed this questionnaire
A8: 4A | B8: 4 | C8: Number of employees of the Audit Committee entity | D8: 1 to 9 | G8: select answer
D9: 10 to 49
D10: 50 to 249
D11: 250 to 499
D12: More than 500
A13: 5A | B13: 5 | C13: Main economic Activity of the Audit Committee entity | D13: Accommodation and food | G13: select answer
D14: Consumer goods
D15: Energy
D16: Healthcare
D17: Financial services - Banking
D18: Financial services - Insurance
D19: Financial services - other
D20: Manufacturing
D21: Information technology
D22: Materials
D23: Real Estate
D24: Telecommunication
D25: Travel, Leisure & Hospitality
... D27: Wholesale and retail
D28: Other (please provide detail) | F28: [please insert your comment here]
A29: 6A | B29: 6 | C29: Total number of audit committee members | D29: <3 | G29: select answer
D30: 3
D31: 4
D32: 5
D33: >5
D34: N/A
A35: 7A1 | B35: 7 | C35: Audit committee members have relevant experience in the following: | D35: Financial reporting | G35: select answer multiple options (column E)
A36: 7A2 | D36: Audit
A37: 7A3 | D37: Industry Experience (management experience, excluding experience sitting on audit committees within the industry)
C39: Question Number as per AC questionnaire | D39: Question Sub-options | F39: Replies received at national level | G39: HELP
B40: I | C40: Interaction with the administrative or supervisory body
A41: 1Ia | B41: 1 | C41: How many times during the reference period did the audit committee meet with the administrative body and/or supervisory body of the entity to communicate on its activities, issues and related recommendations in respect to the statutory audit? (Art 39.6a of AUD) (please use the comments box to provide further detail) | D41: 1.0.a Total (Administrative Body) | G41: select answer
D42: 1.1. Never (please specify) | F42: [please insert your comment here]
...

Sheet Czech translation only
B1: Dotazník - výbor pro audit/kontrolní orgán subjektu
B2: A | C2: Dotazník | D2: Možnosti | F2: Zákon č. 93/2009 Sb.
B3: 1 | C3: Název subjektu
B4: 2 | C4: Sledované období
B5: 3 | C5: Jméno předsedy
C6: E-mail předsedy
C7: Jméno osoby, která dotazník vyplnila
B8: 4 | C8: Počet zaměstnanců v subjektu | D8: 1 až 9
D9: 10 až 49
D10: 50 až 249
D11: 250 až 499
D12: Víc než 500
B13: 5 | C13: Oblast působnosti subjektu | D13: Ubytování a strava
D14: Spotřební zboží
D15: Energie
D16: Zdravotní péče
D17: Finanční služby – bankovnictví
D18: Finanční služby – pojištovnictví
D19: Finanční služby – ostatní
D20: Výroba
D21: Informační technologie
D22: Těžba a zpracování surovin
D23: Nemovitosti
D24: Telekomunikace
D25: Cestování, volný čas a pohostinství
... D28: Jiné (uveďte):
B29: 6 | C29: Počet členů výboru pro audit/kontrolního orgánu | D29: <3
D30: 3
D31: 4
D32: 5
D33: >5
D34: N/A
B35: 7 | C35: Členové výboru pro audit mají relevantní zkušenosti v následujících oblastech: | D35: Finanční reporting
D36: Audit
D37: Zkušenosti v oboru (zkušenosti s řízením, s výjimkou zkušeností v orgánech pro audit v daném odvětví)
C39: Číslo otázky | D39: Dílčí možnosti otázky
B40: I | C40: Interakce s řídicím nebo kontrolním orgánem
B41: 1 | C41: Kolikrát se během sledovaného období setkal výbor pro audit se řídicím orgánem a/nebo kontrolním orgánem subjektu, aby s ním komunikoval o jeho činnosti, otázkách a souvisejících doporučeních týkajících se povinného auditu? (čl. 39 odst. 6a Směrnice) (Pro poskytnutí dalších podrobností použijte prosím pole pro komentáře) | D41: 1.0.a Celkem (řídicí orgán)
D42: 1.1. Nikdy (komentář)
D43: 1.2. 1x
...

Sheet Summary
D1: Otázka | F1: Odpověď
A2: ='AC Questionnaire'!A3 -> 1A | D2: =VLOOKUP($A2,'AC Questionnaire'!$A:$G,3,0) -> Name of the entity | F2: =VLOOKUP($A2,'AC Questionnaire'!$A:$G,4,0) -> 0
A3: ='AC Questionnaire'!A4 -> 2A | D3: =VLOOKUP($A3,'AC Questionnaire'!$A:$G,3,0) -> Reference period | F3: =VLOOKUP($A3,'AC Questionnaire'!$A:$G,4,0) -> 0
A4: ='AC Questionnaire'!A5 -> 3Aa | D4: =VLOOKUP($A4,'AC Questionnaire'!$A:$G,3,0) -> Name of the audit committee chairman | F4: =VLOOKUP($A4,'AC Questionnaire'!$A:$G,4,0) -> 0
A5: ='AC Questionnaire'!A6 -> 3Ab | D5: =VLOOKUP($A5,'AC Questionnaire'!$A:$G,3,0) -> E-mail of the audit committee chairman | F5: =VLOOKUP($A5,'AC Questionnaire'!$A:$G,4,0) -> 0
A6: ='AC Questionnaire'!A7 -> 3Ac | D6: =VLOOKUP($A6,'AC Questionnaire'!$A:$G,3,0) -> Name of the person who completed this questionnaire | F6: =VLOOKUP($A6,'AC Questionnaire'!$A:$G,4,0) -> 0
A7: ='AC Questionnaire'!A8 -> 4A | D7: =VLOOKUP($A7,'AC Questionnaire'!$A:$G,3,0) -> Number of employees of the Audit Committee entity | F7: =VLOOKUP($A7,'AC Questionnaire'!$A:$G,6,0) -> 0
A8: ='AC Questionnaire'!A13 -> 5A | D8: =VLOOKUP($A8,'AC Questionnaire'!$A:$G,3,0) -> Main economic Activity of the Audit Committee entity | F8: =VLOOKUP($A8,'AC Questionnaire'!$A:$G,6,0) -> 0
A9: ='AC Questionnaire'!A29 -> 6A | D9: =VLOOKUP($A9,'AC Questionnaire'!$A:$G,3,0) -> Total number of audit committee members | F9: =VLOOKUP($A9,'AC Questionnaire'!$A:$G,6,0) -> 0
A10: ='AC Questionnaire'!A35 -> 7A1 | B10: ='AC Questionnaire'!A35 -> 7A1 | C10: =VLOOKUP($B10,'AC Questionnaire'!$A:$G,5,0) -> 0 | D10: =VLOOKUP($A10,'AC Questionnaire'!$A:$G,3,0) -> Audit committee members have relevant experience in the following: | F10: =IF(C10="x",VLOOKUP($B10,'AC Questionnaire'!$A:$G,4,0),"")
B11: ='AC Questionnaire'!A36 -> 7A2 | C11: =VLOOKUP($B11,'AC Questionnaire'!$A:$G,5,0) -> 0 | F11: =IF(C11="x",VLOOKUP($B11,'AC Questionnaire'!$A:$G,4,0),"")
B12: ='AC Questionnaire'!A37 -> 7A3 | C12: =VLOOKUP($B12,'AC Questionnaire'!$A:$G,5,0) -> 0 | F12: =IF(C12="x",VLOOKUP($B12,'AC Questionnaire'!$A:$G,4,0),"")
A13: ='AC Questionnaire'!A41 -> 1Ia | D13: =VLOOKUP($A13,'AC Questionnaire'!$A:$G,3,0) -> How many times during the reference period did the audit committee meet with the administrative body and/or supervisory body of the entity to communicate on its activities, issues and related recommendations in respect to the statutory audit? (Art 39.6a of AUD) (please use the comments box to provide further detail) | E13: =VLOOKUP($A13,'AC Questionnaire'!$A:$G,4,0) -> 1.0.a Total (Administrative Body) | F13: =VLOOKUP($A13,'AC Questionnaire'!$A:$G,6,0) -> 0
A14: ='AC Questionnaire'!A53 -> 1Ib | E14: =VLOOKUP($A14,'AC Questionnaire'!$A:$G,4,0) -> 1.0.b Total (Supervisory Body) | F14: =VLOOKUP($A14,'AC Questionnaire'!$A:$G,6,0) -> 0
A15: ='AC Questionnaire'!A66 -> 2Ia | D15: =VLOOKUP($A15,'AC Questionnaire'!$A:$G,3,0) -> How did the audit committee communicate the outcome of the audit to the administrative and/or supervisory body of the entity? (Art 39.6.a of AUD) (please use the comments box to provide further detail) | E15: =VLOOKUP($A15,'AC Questionnaire'!$A:$G,4,0) -> 2.0.a Total (Administrative Body) | F15: =VLOOKUP($A15,'AC Questionnaire'!$A:$G,6,0) -> 0
A16: ='AC Questionnaire'!A73 -> 2Ib | E16: =VLOOKUP($A16,'AC Questionnaire'!$A:$G,4,0) -> 2.0.b Total (Supervisory Body) | F16: =VLOOKUP($A16,'AC Questionnaire'!$A:$G,6,0) -> 0
A17: ='AC Questionnaire'!A81 -> 3I | D17: =VLOOKUP($A17,'AC Questionnaire'!$A:$G,3,0) -> During meetings with the administrative or supervisory body, how much time was spent (in total percentage of hours) on matters related to the outcome and monitoring of the audit? | F17: =VLOOKUP($A17,'AC Questionnaire'!$A:$G,6,0) -> 0
A18: ='AC Questionnaire'!A89 -> 4I | B18: ='AC Questionnaire'!A90 -> 4I1 | C18: =VLOOKUP($B18,'AC Questionnaire'!$A:$G,5,0) -> 0 | D18: =VLOOKUP($A18,'AC Questionnaire'!$A:$G,3,0) -> Did the audit committee provide input or recommendations to the administrative or supervisory body in respect of the following areas? (please use the comments box to provide further detail) | F18: =IF(C18="x",VLOOKUP($B18,'AC Questionnaire'!$A:$G,4,0),"")
B19: ='AC Questionnaire'!A91 -> 4I2 | C19: =VLOOKUP($B19,'AC Questionnaire'!$A:$G,5,0) -> 0 | F19: =IF(C19="x",VLOOKUP($B19,'AC Questionnaire'!$A:$G,4,0),"")
B20: ='AC Questionnaire'!A92 -> 4I3 | C20: =VLOOKUP($B20,'AC Questionnaire'!$A:$G,5,0) -> 0 | F20: =IF(C20="x",VLOOKUP($B20,'AC Questionnaire'!$A:$G,4,0),"")
B21: ='AC Questionnaire'!A93 -> 4I4 | C21: =VLOOKUP($B21,'AC Questionnaire'!$A:$G,5,0) -> 0 | F21: =IF(C21="x",VLOOKUP($B21,'AC Questionnaire'!$A:$G,4,0),"")
B22: ='AC Questionnaire'!A94 -> 4I5 | C22: =VLOOKUP($B22,'AC Questionnaire'!$A:$G,5,0) -> 0 | F22: =IF(C22="x",VLOOKUP($B22,'AC Questionnaire'!$A:$G,4,0),"")
B23: ='AC Questionnaire'!A95 -> 4I6 | C23: =VLOOKUP($B23,'AC Questionnaire'!$A:$G,5,0) -> 0 | F23: =IF(C23="x",VLOOKUP($B23,'AC Questionnaire'!$A:$G,4,0),"")
B24: ='AC Questionnaire'!A96 -> 4I7 | C24: =VLOOKUP($B24,'AC Questionnaire'!$A:$G,5,0) -> 0 | F24: =IF(C24="x",VLOOKUP($B24,'AC Questionnaire'!$A:$G,4,0),"")
A25: ='AC Questionnaire'!A99 -> 5II | B25: ='AC Questionnaire'!A100 -> 5II1 | C25: =VLOOKUP($B25,'AC Questionnaire'!$A:$G,5,0) -> 0 | D25: =VLOOKUP($A25,'AC Questionnaire'!$A:$G,3,0) -> How did the audit committee monitor the independence of the statutory auditor(s)/audit firm during the reference period? (please use the comments box to provide further detail) | F25: =IF(C25="x",VLOOKUP($B25,'AC Questionnaire'!$A:$G,4,0),"")
B26: ='AC Questionnaire'!A101 -> 5II2 | C26: =VLOOKUP($B26,'AC Questionnaire'!$A:$G,5,0) -> 0 | F26: =IF(C26="x",VLOOKUP($B26,'AC Questionnaire'!$A:$G,4,0),"")
B27: ='AC Questionnaire'!A102 -> 5II3 | C27: =VLOOKUP($B27,'AC Questionnaire'!$A:$G,5,0) -> 0 | F27: =IF(C27="x",VLOOKUP($B27,'AC Questionnaire'!$A:$G,4,0),"")
B28: ='AC Questionnaire'!A103 -> 5II4 | C28: =VLOOKUP($B28,'AC Questionnaire'!$A:$G,5,0) -> 0 | F28: =IF(C28="x",VLOOKUP($B28,'AC Questionnaire'!$A:$G,4,0),"")
B29: ='AC Questionnaire'!A104 -> 5II5 | C29: =VLOOKUP($B29,'AC Questionnaire'!$A:$G,5,0) -> 0 | F29: =IF(C29="x",VLOOKUP($B29,'AC Questionnaire'!$A:$G,4,0),"")
A30: ='AC Questionnaire'!A107 -> 6II | D30: =VLOOKUP($A30,'AC Questionnaire'!$A:$G,3,0) -> Did the audit committee set further criteria limiting the provision of non audit services that would be permissible under the EU Audit Regulation or local legislation? (please use the comments box to provide further detail) | F30: =VLOOKUP($A30,'AC Questionnaire'!$A:$G,6,0) -> 0
A31: ='AC Questionnaire'!A111 -> 7II | D31: =VLOOKUP($A31,'AC Questionnaire'!$A:$G,3,0) -> How many proposals did the statutory auditor(s)/audit firm (or any member of its network) submit to the entity, its parent or controlled undertakings, for the provision of non-audit services during the reference period? (Art 5.4 of AUR) | F31: =VLOOKUP($A31,'AC Questionnaire'!$A:$G,6,0) -> 0
A32: ='AC Questionnaire'!A118 -> 7IIa | D32: =VLOOKUP($A32,'AC Questionnaire'!$A:$G,3,0) -> Please indicate the total fees relating to the provision of the proposed non-audit services as a percentage of total statutory audit fees | F32: =VLOOKUP($A32,'AC Questionnaire'!$A:$G,6,0) -> 0
A33: ='AC Questionnaire'!A128 -> 8II | D33: =VLOOKUP($A33,'AC Questionnaire'!$A:$G,3,0) -> Were all these proposals for non-audit services examined by the audit committee? (Art 5.4 of AUR) | F33: =VLOOKUP($A33,'AC Questionnaire'!$A:$G,6,0) -> 0
A34: ='AC Questionnaire'!A132 -> 8IIa | D34: =VLOOKUP($A34,'AC Questionnaire'!$A:$G,3,0) -> If no, why not? (please use the comments box to provide further detail) | F34: =VLOOKUP($A34,'AC Questionnaire'!$A:$G,6,0) -> 0
A35: ='AC Questionnaire'!A137 -> 8IIb | B35: ='AC Questionnaire'!A138 -> 8IIb1 | C35: =VLOOKUP($B35,'AC Questionnaire'!$A:$G,5,0) -> 0 | D35: =VLOOKUP($A35,'AC Questionnaire'!$A:$G,3,0) -> If yes, how was the examination of the proposals for non-audit services organised? (please use the comments box to provide further detail) | F35: =IF(C35="x",VLOOKUP($B35,'AC Questionnaire'!$A:$G,4,0),"")
B36: ='AC Questionnaire'!A139 -> 8IIb2 | C36: =VLOOKUP($B36,'AC Questionnaire'!$A:$G,5,0) -> 0 | F36: =IF(C36="x",VLOOKUP($B36,'AC Questionnaire'!$A:$G,4,0),"")
B37: ='AC Questionnaire'!A140 -> 8IIb3 | C37: =VLOOKUP($B37,'AC Questionnaire'!$A:$G,5,0) -> 0 | F37: =IF(C37="x",VLOOKUP($B37,'AC Questionnaire'!$A:$G,4,0),"")
B38: ='AC Questionnaire'!A141 -> 8IIb4 | C38: =VLOOKUP($B38,'AC Questionnaire'!$A:$G,5,0) -> 0 | F38: =IF(C38="x",VLOOKUP($B38,'AC Questionnaire'!$A:$G,4,0),"")
B39: ='AC Questionnaire'!A142 -> 8IIb5 | C39: =VLOOKUP($B39,'AC Questionnaire'!$A:$G,5,0) -> 0 | F39: =IF(C39="x",VLOOKUP($B39,'AC Questionnaire'!$A:$G,4,0),"")
B40: ='AC Questionnaire'!A143 -> 8IIb6 | C40: =VLOOKUP($B40,'AC Questionnaire'!$A:$G,5,0) -> 0 | F40: =IF(C40="x",VLOOKUP($B40,'AC Questionnaire'!$A:$G,4,0),"")
...
